BEGIN:VCALENDAR
VERSION:2.0
PRODID:-//TICA ACAD - ECPv6.15.17//NONSGML v1.0//EN
CALSCALE:GREGORIAN
METHOD:PUBLISH
X-WR-CALNAME:TICA ACAD
X-ORIGINAL-URL:https://tica-acad.co.uk
X-WR-CALDESC:Events for TICA ACAD
REFRESH-INTERVAL;VALUE=DURATION:PT1H
X-Robots-Tag:noindex
X-PUBLISHED-TTL:PT1H
BEGIN:VTIMEZONE
TZID:Europe/London
BEGIN:DAYLIGHT
TZOFFSETFROM:+0000
TZOFFSETTO:+0100
TZNAME:BST
DTSTART:20250330T010000
END:DAYLIGHT
BEGIN:STANDARD
TZOFFSETFROM:+0100
TZOFFSETTO:+0000
TZNAME:GMT
DTSTART:20251026T010000
END:STANDARD
BEGIN:DAYLIGHT
TZOFFSETFROM:+0000
TZOFFSETTO:+0100
TZNAME:BST
DTSTART:20260329T010000
END:DAYLIGHT
BEGIN:STANDARD
TZOFFSETFROM:+0100
TZOFFSETTO:+0000
TZNAME:GMT
DTSTART:20261025T010000
END:STANDARD
BEGIN:DAYLIGHT
TZOFFSETFROM:+0000
TZOFFSETTO:+0100
TZNAME:BST
DTSTART:20270328T010000
END:DAYLIGHT
BEGIN:STANDARD
TZOFFSETFROM:+0100
TZOFFSETTO:+0000
TZNAME:GMT
DTSTART:20271031T010000
END:STANDARD
END:VTIMEZONE
BEGIN:VEVENT
DTSTART;TZID=Europe/London:20260604T103000
DTEND;TZID=Europe/London:20260604T220000
DTSTAMP:20260425T112612
CREATED:20260116T132111Z
LAST-MODIFIED:20260217T121159Z
UID:10000005-1780569000-1780610400@tica-acad.co.uk
SUMMARY:TICA ACAD Summer Social 2026
DESCRIPTION:COME TOGETHER: CONNECTIONS\, COMPETITION & CELEBRATION \n\n\n\nJoin us at Shrigley Hall Hotel on Thursday 4 June 2026 for the TICA-ACAD Summer Social\, our flagship networking event bringing together professionals from across the thermal insulation and asbestos sectors. \n\n\n\nThe day combines a relaxed golf competition with a lively social programme\, giving you time to connect with industry peers\, strengthen relationships across the supply chain\, and enjoy an informal setting away from site. Whether you are taking part in the golf or joining us later\, expect quality networking\, good company\, and a standout venue.
URL:https://tica-acad.co.uk/event/tica-acad-summer-social-2026/
LOCATION:Shrigley Hall\, Shrigley Hall Hotel & Spa\, Cheshire\, Macclesfield\, SK10 5SB\, United Kingdom
END:VEVENT
END:VCALENDAR